BEGIN:VCALENDAR
VERSION:2.0
PRODID:-//wp-events-plugin.com//6.4.7.1//EN
BEGIN:VEVENT
UID:1441@updogchallenge.com
DTSTART:20201025T190000Z
DTEND:20201025T220000Z
DTSTAMP:20201006T191028Z
URL:https://updogchallenge.com/events/pilot-mountain-nc-us-oct-25th-jam-mi
 n-disc-dogs/
SUMMARY:Pilot Mountain\, NC\, US - Oct 25th - Jam-Min' Disc Dogs
DESCRIPTION:\n\n\nCLUB NAME\nJam-Min' Disc Dogs\n\n\nCONTACT NAME\nCJ Fithi
 an\n\n\nCONTACT EMAIL\njammindogsports@icloud.com\n\n\nEVENT ADDRESS\n114
 0 Matthews Rd\, Pilot Mtn\, NC 27041\, United States\n\n\nEVENT START DAT
 E\n10/25/2020\n\n\nEVENT END DATE\n10/25/2020\n\n\nEVENT START TIME\n2:0
 0 PM\n\n\nEVENT END TIME\n5:00 PM\n\n\nGAMES BEING PLAYED\nFour Way Play\
 nFrizgility\nFunKey\n7Up\nSpaced Out\nThrow N Go\nTime Warp\n\n\nADDITIONA
 L EVENT INFORMATION FOR PARTICIPANTS\nPlayers choice! Additional runs wi
 ll be offered after K9 Toss &amp\; Fetch League rounds are played. Hybrid/
 Crossover games will be played after Disc-only games.\n\nNo pre-registrati
 on. $8 per run via cash\, check (CJ Fithian) or PayPal (cjfithian@mac.com)
 . Points play only - no placement awards.\n\n\n
CATEGORIES:UpDog Events
LOCATION:Jam'Min Dog Sports Field\, 1140 Matthews Rd\, Pilot Mountain\, NC\
 , 27041\, United States
GEO:36.409663;-80.47224699999998
X-APPLE-STRUCTURED-LOCATION;VALUE=URI;X-ADDRESS=1140 Matthews Rd\, Pilot Mo
 untain\, NC\, 27041\, United States;X-APPLE-RADIUS=100;X-TITLE=Jam'Min Dog
  Sports Field:geo:36.409663,-80.47224699999998
END:VEVENT
END:VCALENDAR