BEGIN:VCALENDAR
VERSION:2.0
PRODID:-//wp-events-plugin.com//6.4.7.1//EN
BEGIN:VEVENT
UID:4801@updogchallenge.com
DTSTART:20260614T140000Z
DTEND:20260614T230000Z
DTSTAMP:20251216T010224Z
URL:https://updogchallenge.com/events/pilot-mountain-nc-us-june-14th-jam-m
 in-disc-dogs-crossover-crown/
SUMMARY:Pilot Mountain\, NC\, US - June 14th - Jam-Min' Disc Dogs - Crossov
 er Crown
DESCRIPTION:\n\n\nClub Name\nJam-Min' Disc Dogs\n\n\nContact Name\nCJ Fithi
 an\n\n\nContact Email\njammindogsports@icloud.com\n\n\nEvent Address\n1140
  Matthews Rd\, Pilot Mountain\, NC 27041\, United States\n\n\nEvent Start 
 Date\n6/14/2026\n\n\nEvent End Date\n6/14/2026\n\n\nEvent Start Time\n9:0
 0 AM\n\n\nEvent End Time\n6:00 PM\n\n\nGames Being Played\nBoom!\nFar Out\
 nFireball\nFour Way Play\nFreestyle\nFrizgility\nFunKey\nGreedy\n7Up\nSpac
 ed Out\nThrow N Go\nTime Warp\nPairs Four Way Play\nPairs Throw N Go\n\n\n
 Far Out Field Length in Yards:\n100\n\n\nAdditional event information for 
 participants\nAll games are offered to play! There is an event limit of 20
 0-250 runs depending on the games entered. Freestyle willl be offered if w
 e have at least 3 judges.\n\nFar Out\, Freestyle\, Throw N Go &amp\; Pairs
 \, Frizgility\, 4WayPlay &amp\; Pairs\, Fireball\, Spaced Out\, 7Up\, Time
  Warp\, Greedy\, Boom!\, FunKey\n\nNOTES:\nAll Level 2 games are available
 .\nUp to 3 rounds per game may be played\nUpDog has a 10 run limit per dog
  per day.\nA Hoop will be substituted for the tunnel for Frizgility and Fu
 nKey.\nOnly first rounds are eligible for placement awards. If there is a 
 large entry of second rounds we may opt to also award placements for the 2
 nd round as well. 3rd rounds are points only.\n\nRV Camping is available @
 $25/night. Car/tent camping spots are @ $15/night. There are no hook-ups a
 vailable.\n\n\nLink for pre-registration:\nhttps://www.cognitoforms.com/Ja
 mMinDiscDogs/JamMinDiscDogsUpDogPreRegistration\n\n\n\n\n\n\n\n\n\n\n\n\n\
 n\n\n\n\n\n\n\n\n\n\n\n\n\n\n\n\n\n
CATEGORIES:Crossover Crown,UpDog Events
LOCATION:Jam'Min Dog Sports Field\, 1140 Matthews Rd\, Pilot Mountain\, NC\
 , 27041\, United States
GEO:36.409663;-80.47224699999998
X-APPLE-STRUCTURED-LOCATION;VALUE=URI;X-ADDRESS=1140 Matthews Rd\, Pilot Mo
 untain\, NC\, 27041\, United States;X-APPLE-RADIUS=100;X-TITLE=Jam'Min Dog
  Sports Field:geo:36.409663,-80.47224699999998
END:VEVENT
END:VCALENDAR