BEGIN:VCALENDAR
VERSION:2.0
PRODID:-//wp-events-plugin.com//6.4.7.1//EN
BEGIN:VEVENT
UID:1455@updogchallenge.com
DTSTART:20210410T140000Z
DTEND:20210411T221500Z
DTSTAMP:20210329T190320Z
URL:https://updogchallenge.com/events/pilot-mountain-nc-us-april-10th-11th
 -jam-min-disc-dogs/
SUMMARY:Pilot Mountain\, NC\, US - April 10th & 11th - Jam-Min' Disc Dogs
DESCRIPTION:\n\n\nCLUB NAME\nJam-Min' Disc Dogs\n\n\nCONTACT NAME\nCJ Fithi
 an\n\n\nCONTACT EMAIL\njammindogsports@icloud.com\n\n\nEVENT ADDRESS\n114
 0 Matthews Rd\, Pilot Mountain\, NC 27041\, United States\n\n\nEVENT STAR
 T DATE\n4/10/2021\n\n\nEVENT END DATE\n4/11/2021\n\n\nEVENT START TIME\n
 9:15 AM\n\n\nEVENT END TIME\n5:30 PM\n\n\nGAMES BEING PLAYED\nFar Out\nFo
 ur Way Play\nFreestyle\nFrizgility\nFunKey\nGreedy\n7Up\nSpaced Out\nThrow
  N Go\nTime Warp\n\n\nADDITIONAL EVENT INFORMATION FOR PARTICIPANTS\nReg
 istration link:  tinyurl.com/springjamminreg2021\n\nDates: April 10-11\, 
 2021\nTime: 9:30am-5pm with DOS Registration at 9 am. Players meeting - 
 9:15am.\nLocation: 1140 Matthews Rd\, Pilot Mountain NC 27041\nQuestions: 
 email jammindogsports@icloud.com\; phone-562.686.1764\n\nGames on Saturda
 y: Throw N Go\, Freestyle (Performance)\, 4WayPlay\, Greedy\, Time Warp\, 
 Frizgility\nGames on Sunday: Frizgility\, 7Up\, FunKey\, Far Out (70 yards
 )\, Throw N Go\, Spaced Out\nAll Level 2 games are available. Additional r
 ounds are available for pre-registration. When signing up for additional r
 ounds\, please be aware that UpDog has a 10 run limit/dog/day.\n\nPre-Reg 
 closes on Thursday\, April 8\, 2021.\nCombined Pricing for all runs/dogs c
 ombined: 1-4 runs and DOS: $12/run. 5-9 runs: $11/run\; 10+ runs: $10/run.
 \nPayPal: jammindogsports@icloud.com. Checks: payable to CJ Fithian\n\nFR
 EESTYLE: If you are able to help judge please email jammindogsports@iclou
 d.com.\n\nDry camping (no hook-ups) available onsite. $25/weekend (2 night
 s) or $15/night\n\n\n
CATEGORIES:UpDog Events
LOCATION:Jam'Min Dog Sports Field\, 1140 Matthews Rd\, Pilot Mountain\, NC\
 , 27041\, United States
GEO:36.409663;-80.47224699999998
X-APPLE-STRUCTURED-LOCATION;VALUE=URI;X-ADDRESS=1140 Matthews Rd\, Pilot Mo
 untain\, NC\, 27041\, United States;X-APPLE-RADIUS=100;X-TITLE=Jam'Min Dog
  Sports Field:geo:36.409663,-80.47224699999998
END:VEVENT
END:VCALENDAR