BEGIN:VCALENDAR
VERSION:2.0
PRODID:-//wp-events-plugin.com//6.4.7.1//EN
BEGIN:VEVENT
UID:395@updogchallenge.com
DTSTART;VALUE=DATE:20171223
DTEND;VALUE=DATE:20171224
DTSTAMP:20171212T164726Z
URL:https://updogchallenge.com/events/pilot-mountain-nc-dec-23rd-jammin-do
 g-sports/
SUMMARY:Pilot Mountain\, NC - Dec 23rd - Jam'Min Dog Sports
DESCRIPTION:\n\n\nContact Name\nCJ Fithian\n\n\nClub/ORG Name\nJam-Min' Dog
  Sports\n\n\nContact Email address\ncjfithian@mac.com\n\n\nClub State\nNC\
 n\n\n\n\n\n\nEvent location full Address\n1140 Matthews Rd\n\n\nStart Date
 \nDecember 23\, 2017\n\n\n\n\n\n\nGames you want to offer\n4WayPlay\, Friz
 gility\, Funkey\, Spaced Out\, Time Warp\, 7UP\, Far Out\n\n\n\n\n\n\nAny 
 other event information?\nPre-reg: $10/run\, 6 runs = $55. Day of Show: $1
 2/run. Pre-Registration link: https://goo.gl/forms/Q4ToqknoKPyTemz52\n\n\n
LOCATION:Jam'Min Dog Sports Field\, 1140 Matthews Rd\, Pilot Mountain\, NC\
 , 27041\, United States
GEO:36.409663;-80.47224699999998
X-APPLE-STRUCTURED-LOCATION;VALUE=URI;X-ADDRESS=1140 Matthews Rd\, Pilot Mo
 untain\, NC\, 27041\, United States;X-APPLE-RADIUS=100;X-TITLE=Jam'Min Dog
  Sports Field:geo:36.409663,-80.47224699999998
END:VEVENT
END:VCALENDAR