BEGIN:VCALENDAR
VERSION:2.0
PRODID:-//wp-events-plugin.com//6.4.7.1//EN
BEGIN:VEVENT
UID:177@updogchallenge.com
DTSTART:20161002T140000Z
DTEND:20161002T220000Z
DTSTAMP:20160902T024243Z
URL:https://updogchallenge.com/events/ontario-october-2/
SUMMARY:Ontario October 2
DESCRIPTION:Contact : Valerie Melia\nSimcoe Dog Sports\nvmelia80@gmail.com\
 n\nEvent location :  Toronto North KOA\, 139 Reive Blvd\, Cookstown\, Onta
 rio. L0L 1L0\n\nOctober 2\, 2016\n9:00 AM - 5:00 PM\n\nGames :  ThrowNGo\,
  Frizgility\, Spaced Out\, Time Warp\, FarOut
CATEGORIES:UpDog Events
LOCATION:Toronto North KOA\, 139 Reive Blvd\, Cookstown\, Ontario. \, L0L 1
 L0\, Canada
GEO:44.2061056;-79.6520342
X-APPLE-STRUCTURED-LOCATION;VALUE=URI;X-ADDRESS=139 Reive Blvd\, Cookstown\
 , Ontario. \, L0L 1L0\, Canada;X-APPLE-RADIUS=100;X-TITLE=Toronto North KO
 A:geo:44.2061056,-79.6520342
END:VEVENT
END:VCALENDAR