BEGIN:VCALENDAR
VERSION:2.0
PRODID:-//wp-events-plugin.com//6.4.7.1//EN
BEGIN:VEVENT
UID:1837@updogchallenge.com
DTSTART:20210911T140000Z
DTEND:20210911T220000Z
DTSTAMP:20210820T180605Z
URL:https://updogchallenge.com/events/omaha-ne-us-sept-11th-nebraska-disc-
 dogs/
SUMMARY:Omaha\, NE\, US - Sept 11th - Nebraska Disc Dogs - Triple Crown
DESCRIPTION:\n\n\nCLUB NAME\nNebraska Disc Dogs\n\n\nCONTACT NAME\nAndrew S
 trovers\n\n\nCONTACT EMAIL\nNebraskaDiscDogs@gmail.com\n\n\nEVENT ADDRESS\
 n8410 S 160th Ave\, Omaha\, NE 68136\, United States\n\n\nEVENT START DATE
 \n9/11/2021\n\n\nEVENT END DATE\n9/11/2021\n\n\nEVENT START TIME\n9:00 AM
 \n\n\nEVENT END TIME\n5:00 PM\n\n\nGAMES BEING PLAYED\nFour Way Play\nFriz
 gility\nFunKey\nGreedy\n7Up\nSpaced Out\nThrow N Go\nTime Warp\n\n\nADDITI
 ONAL EVENT INFORMATION FOR PARTICIPANTS\nWe will be playing alongside our 
 K9 T&amp\;F Worldwide Championship field.\n\nThe schedule for the day will
  have us doing the Triple Crown games during the morning and after we fini
 sh those up\, we will continue to offer the rest of the UpDog games throug
 hout the day.\nExact schedule is still pending and will be updated on the 
 following facebook event:\nhttps://www.facebook.com/events/144770394559505
 2\n\n\n
CATEGORIES:UpDog Events
LOCATION:Omaha\, NE\, 8410 S 160th Ave\, Omaha\, NE\, 68136\, United States
GEO:41.174624;-96.165521
X-APPLE-STRUCTURED-LOCATION;VALUE=URI;X-ADDRESS=8410 S 160th Ave\, Omaha\, 
 NE\, 68136\, United States;X-APPLE-RADIUS=100;X-TITLE=Omaha\, NE:geo:41.17
 4624,-96.165521
END:VEVENT
END:VCALENDAR