BEGIN:VCALENDAR
VERSION:2.0
PRODID:-//wp-events-plugin.com//6.4.7.1//EN
BEGIN:VEVENT
UID:2126@updogchallenge.com
DTSTART:20220504T230000Z
DTEND:20220526T000000Z
DTSTAMP:20220425T195327Z
URL:https://updogchallenge.com/events/omaha-ne-us-may-4th-11th-18th-25th-b
 ite-club-nebraska-disc-dogs/
SUMMARY:Omaha\, NE\, US - May 4th\, 11th\, 18th & 25th - Bite Club - Nebras
 ka Disc Dogs
DESCRIPTION:\n\n\nCLUB NAME\nNebraska Disc Dogs\n\n\nCONTACT NAME\nEmily Jo
 hnson\n\n\nCONTACT EMAIL\nnebraskadiscdogs@gmail.com\n\n\n\n\n\n\n\n\n\n\n
 EVENT ADDRESS\nLevi Carter Park\, 4405 Carter Lake Shore Dr W\, Omaha\, NE
  68110\, United States\n\n\nEVENT START DATE\n5/4/2022\n\n\nEVENT END DATE
 \n5/25/2022\n\n\nLIST WEEK 2 BITE CLUB DATE:\n5/11/2022\n\n\nLIST WEEK 3 B
 ITE CLUB DATE:\n5/18/2022\n\n\nLIST WEEK 4 BITE CLUB DATE:\n5/25/2022\n\n\
 nEVENT START TIME\n6:00 PM\n\n\nEVENT END TIME\n7:00 PM\n\n\nGAMES BEING 
 PLAYED\nFour Way Play\nThrow N Go\nTime Warp\nGreedy\nSpaced Out\n\n\nADDI
 TIONAL EVENT INFORMATION FOR PARTICIPANTS\nRegistration links &amp\; infor
 mation on Bite Club will be available on our Facebook page: https://www.f
 acebook.com/groups/nebraskadiscdogs\n\n\n
CATEGORIES:Bite Club,UpDog Events
LOCATION:Levi Carter Park\, Omaha\, NE\, 4405 Carter Lake Shore Dr W\, Omah
 a\, NE\, 68110\, United States
GEO:41.302713;-95.926442
X-APPLE-STRUCTURED-LOCATION;VALUE=URI;X-ADDRESS=4405 Carter Lake Shore Dr W
 \, Omaha\, NE\, 68110\, United States;X-APPLE-RADIUS=100;X-TITLE=Levi Cart
 er Park\, Omaha\, NE:geo:41.302713,-95.926442
END:VEVENT
END:VCALENDAR