BEGIN:VCALENDAR
VERSION:2.0
PRODID:-//wp-events-plugin.com//6.4.7.1//EN
BEGIN:VEVENT
UID:2197@updogchallenge.com
DTSTART:20220611T140000Z
DTEND:20220612T220000Z
DTSTAMP:20220603T180832Z
URL:https://updogchallenge.com/events/ocala-fl-us-june-11th-12th-ocala-dog
 -ranch/
SUMMARY:Ocala\, FL\, US - June 11th & 12th - Ocala Dog Ranch
DESCRIPTION:\n\n\nCLUB NAME\nOcala Dog Ranch\n\n\nCONTACT NAME\nSally Saxto
 n\n\n\nCONTACT EMAIL\nInfo@ocaladogranch.com\n\n\nEVENT ADDRESS\n440 SW 11
 0 Ave\, Ocala\, FL 34481\, United States\n\n\nEVENT START DATE\n6/11/2022\
 n\n\nEVENT END DATE\n6/12/2022\n\n\nEVENT START TIME\n9:00 AM\n\n\nEVENT 
 END TIME\n5:00 PM\n\n\nGAMES BEING PLAYED\nSaturday Games:\n\nFour Way Pla
 y\nFrizgility\nThrow N Go\nTime Warp\n\nSunday Games:\n\nThrow N Go\nGreed
 y\n7Up\nFour Way Play\n\n\nEMBED LINK FOR PRE-REGISTRATION? (OPTIONAL)\nht
 tps://www.ocaladogranch.com/home/disc-dog/\n\n\n
CATEGORIES:UpDog Events
LOCATION:Ocala Dog Ranch\, 440 SW 110 Ave\, Ocala\, FL\, 34481\, United Sta
 tes
GEO:29.1832218;-82.30247259999999
X-APPLE-STRUCTURED-LOCATION;VALUE=URI;X-ADDRESS=440 SW 110 Ave\, Ocala\, FL
 \, 34481\, United States;X-APPLE-RADIUS=100;X-TITLE=Ocala Dog Ranch:geo:29
 .1832218,-82.30247259999999
END:VEVENT
END:VCALENDAR