BEGIN:VCALENDAR
VERSION:2.0
PRODID:-//wp-events-plugin.com//6.4.7.1//EN
BEGIN:VEVENT
UID:1942@updogchallenge.com
DTSTART:20220102T140000Z
DTEND:20220102T220000Z
DTSTAMP:20211206T163853Z
URL:https://updogchallenge.com/events/ocala-fl-us-jan-2nd-ocala-dog-ranch/
SUMMARY:Ocala\, FL\, US - Jan 2nd - Ocala Dog Ranch
DESCRIPTION:\n\n\nCLUB NAME\nOcala Dog Ranch\n\n\nCONTACT NAME\nSally Saxto
 n\n\n\nCONTACT EMAIL\nInfo@ocaladogranch.com\n\n\nEVENT ADDRESS\n440 SW 11
 0Ave\, Ocala\, FL 34481\, United States\n\n\nEVENT START DATE\n1/2/2022\n\
 n\nEVENT END DATE\n1/2/2022\n\n\nEVENT START TIME\n9:00 AM\n\n\nEVENT END
  TIME\n5:00 PM\n\n\nGAMES BEING PLAYED\nFrizgility\nGreedy\nThrow N Go\nTi
 me Warp\n\n\nEMBED LINK FOR PRE-REGISTRATION? (OPTIONAL)\nhttps://www.ocal
 adogranch.com/home/disc-dog/\n\n\n
CATEGORIES:UpDog Events
LOCATION:Ocala Dog Ranch\, 440 SW 110 Ave\, Ocala\, FL\, 34481\, United Sta
 tes
GEO:29.1832218;-82.30247259999999
X-APPLE-STRUCTURED-LOCATION;VALUE=URI;X-ADDRESS=440 SW 110 Ave\, Ocala\, FL
 \, 34481\, United States;X-APPLE-RADIUS=100;X-TITLE=Ocala Dog Ranch:geo:29
 .1832218,-82.30247259999999
END:VEVENT
END:VCALENDAR