BEGIN:VCALENDAR
VERSION:2.0
PRODID:-//wp-events-plugin.com//6.4.7.1//EN
BEGIN:VEVENT
UID:84@updogchallenge.com
DTSTART:20151108T140000Z
DTEND:20151108T220000Z
DTSTAMP:20151027T204011Z
URL:https://updogchallenge.com/events/november-8th-lapeer-mi/
SUMMARY:November 8th Lapeer MI
DESCRIPTION:at Rotary Park in Lapeer MI\non November 8\, 2015\nTime 9:00 AM
  - 5:30 AM\nGames: 4WayPlay\, ThrowNGo\, Frizgility\, Spaced Out\, Time W
 arp\n\n&nbsp\;\n\nContact Info\n\nDeanna Jones\nDisc Dogs of Mi\nfancy735@
 hotmail.com\n262-352-3115\n\n&nbsp\;
ATTACH;FMTTYPE=image/jpeg:https://updogchallenge.com/wp-content/uploads/20
 15/10/FullSizeRender-4.jpg
CATEGORIES:UpDog Events
LOCATION:Lapeer\, MI\, 101 East Nepssing St.\, Lapeer\, MI\, 48446\, United
  States
GEO:43.0561556;-83.30706550000002
X-APPLE-STRUCTURED-LOCATION;VALUE=URI;X-ADDRESS=101 East Nepssing St.\, Lap
 eer\, MI\, 48446\, United States;X-APPLE-RADIUS=100;X-TITLE=Lapeer\, MI:ge
 o:43.0561556,-83.30706550000002
END:VEVENT
END:VCALENDAR