BEGIN:VCALENDAR
VERSION:2.0
PRODID:-//wp-events-plugin.com//6.4.7.1//EN
BEGIN:VEVENT
UID:3189@updogchallenge.com
DTSTART:20231203T150000Z
DTEND:20231203T220000Z
DTSTAMP:20231118T001958Z
URL:https://updogchallenge.com/events/north-saanich-bc-ca-nov-26th-victori
 a-disc-dog-club/
SUMMARY:North Saanich\, BC\, CA - Dec 3rd - Victoria Disc Dog Club
DESCRIPTION:\n\n\nCLUB NAME\nVictoria Disc Dog Club\n\n\nCONTACT NAME\nErin
  Lucier\n\n\nCONTACT EMAIL\nerin@wagtails.training\n\n\nEVENT ADDRESS\nWai
 n Park\, North Saanich\, BC V8L 5R9\, Canada\n\n\nEVENT START DATE\n12/3/2
 023\n\n\nEVENT END DATE\n12/3/2023\n\n\nEVENT START TIME\n10:00 AM\n\n\nE
 VENT END TIME\n5:00 PM\n\n\nGAMES BEING PLAYED\nFour Way Play\nFrizgility\
 n7Up\nThrow N Go\nTime Warp\n\n\n
CATEGORIES:UpDog Events
LOCATION:North Saanich\, BC\, Birch Road\, Wain Park\, North Saanich\, BC\,
  V8L 5R9\, Canada
GEO:48.678663;-123.462059
X-APPLE-STRUCTURED-LOCATION;VALUE=URI;X-ADDRESS=Birch Road\, Wain Park\, No
 rth Saanich\, BC\, V8L 5R9\, Canada;X-APPLE-RADIUS=100;X-TITLE=North Saani
 ch\, BC:geo:48.678663,-123.462059
END:VEVENT
END:VCALENDAR