BEGIN:VCALENDAR
VERSION:2.0
PRODID:-//wp-events-plugin.com//6.4.7.1//EN
BEGIN:VEVENT
UID:3872@updogchallenge.com
DTSTART:20250517T150000Z
DTEND:20250517T210000Z
DTSTAMP:20250422T230109Z
URL:https://updogchallenge.com/events/north-grosvenor-dale-ct-us-may-17th-
 18th-face-to-face-disc/
SUMMARY:North Grosvenor Dale\, CT\, US - May 17th - Face to Face Disc
DESCRIPTION:\n\n\nClub Name\nFace to Face Disc\n\n\nContact Name\nDeborah T
 aylor\n\n\nContact Email\nfacetofacedogsports@gmail.com\n\n\nEvent Address
 \n65 Valley Rd\, North Grosvenor Dale\, CT 06255\, United States\n\n\nEven
 t Start Date\n5/17/2025\n\n\nEvent End Date\n5/17/2025\n\n\nEvent Start T
 ime\n10:00 AM\n\n\nEvent End Time\n4:00 PM\n\n\nGames Being Played\nTo Be 
 Determined\n\n\n
CATEGORIES:UpDog Events
LOCATION:North Grosvenor Dale\, CT\, 65 Valley Rd\, North Grosvenor Dale\, 
 CT\, 06255\, United States
GEO:41.980064;-71.882469
X-APPLE-STRUCTURED-LOCATION;VALUE=URI;X-ADDRESS=65 Valley Rd\, North Grosve
 nor Dale\, CT\, 06255\, United States;X-APPLE-RADIUS=100;X-TITLE=North Gro
 svenor Dale\, CT:geo:41.980064,-71.882469
END:VEVENT
END:VCALENDAR