BEGIN:VCALENDAR
VERSION:2.0
PRODID:-//wp-events-plugin.com//6.4.7.1//EN
BEGIN:VEVENT
UID:48@updogchallenge.com
DTSTART:20150726T210000Z
DTEND:20150727T020000Z
DTSTAMP:20150423T023415Z
URL:https://updogchallenge.com/events/new-hampshire-july-26th/
SUMMARY:New Hampshire July 26th
DESCRIPTION:July 26th\nTime:  4pm-9pm\nNew Hampshire\n34 Stage Road\, Deer
 field\, NH\nContact: Jessica Davis nhaussiemom@yahoo.com\n\nYou can also v
 isit:\nhttp://www.granitestatediscdogs.com/
CATEGORIES:UpDog Events
LOCATION:New Hampshire\, 34 Stage Road\, Deerfield\, NH\, United States
GEO:43.1032972;-71.24652329999998
X-APPLE-STRUCTURED-LOCATION;VALUE=URI;X-ADDRESS=34 Stage Road\, Deerfield\,
  NH\, United States;X-APPLE-RADIUS=100;X-TITLE=New Hampshire:geo:43.103297
 2,-71.24652329999998
END:VEVENT
END:VCALENDAR