BEGIN:VCALENDAR
VERSION:2.0
PRODID:-//wp-events-plugin.com//6.4.7.1//EN
BEGIN:VEVENT
UID:14@updogchallenge.com
DTSTART;VALUE=DATE:20140907
DTEND;VALUE=DATE:20140908
DTSTAMP:20140805T031558Z
URL:https://updogchallenge.com/events/new-boston-nh-september-7th/
SUMMARY:New Boston\, NH September 7th
DESCRIPTION:Games:\n2 Rounds of Frizgility\n1 Round of Throw and Go\n[dt_di
 vider /]\n[dt_gap height="10" /]\n\nContact:\nJessica Davis\nnhaussiemom@y
 ahoo.com
CATEGORIES:UpDog Events
LOCATION:Hillsboro County Ag Fair\, 15 Hill Dale Lane\, New Boston\, NH\, 0
 3070\, NE\, United States
GEO:42.982098;-71.68239499999999
X-APPLE-STRUCTURED-LOCATION;VALUE=URI;X-ADDRESS=15 Hill Dale Lane\, New Bos
 ton\, NH\, 03070\, NE\, United States;X-APPLE-RADIUS=100;X-TITLE=Hillsboro
  County Ag Fair:geo:42.982098,-71.68239499999999
END:VEVENT
END:VCALENDAR