BEGIN:VCALENDAR
VERSION:2.0
PRODID:-//wp-events-plugin.com//6.4.7.1//EN
BEGIN:VEVENT
UID:2475@updogchallenge.com
DTSTART:20230916T130000Z
DTEND:20230917T220000Z
DTSTAMP:20221202T030623Z
URL:https://updogchallenge.com/events/nanaimo-bc-ca-sept-16th-17th-nanaimo
 -disc-dog-club/
SUMMARY:Nanaimo\, BC\, CA - Sept 16th & 17th - Nanaimo Disc Dog Club - Trip
 le Crown
DESCRIPTION:\n\n\nCLUB NAME\nNanaimo Disc Dog Club\n\n\nCONTACT NAME\nChris
 tina Young\n\n\nCONTACT EMAIL\nchristina@positive.dog\n\n\nEVENT ADDRESS\n
 1640 MacMillan Rd\, Nanaimo\, bc V9X 1N5\, Canada\n\n\nEVENT START DATE\n9
 /16/2023\n\n\nEVENT END DATE\n9/17/2023\n\n\nEVENT START TIME\n8:00 AM\n\
 n\nEVENT END TIME\n5:00 PM\n\n\nGAMES BEING PLAYED\nTo Be Determined\n\n\n
 ADDITIONAL EVENT INFORMATION FOR PARTICIPANTS\nhttps://nanaimodiscdog.club
 /page/\n\n\n
CATEGORIES:UpDog Events
LOCATION:Nanaimo\, BC\, CA\, 1640 MacMillan Rd\, Nanaimo\, BC\, V9X 1L9\, C
 anada
GEO:49.1142695;-123.8644969
X-APPLE-STRUCTURED-LOCATION;VALUE=URI;X-ADDRESS=1640 MacMillan Rd\, Nanaimo
 \, BC\, V9X 1L9\, Canada;X-APPLE-RADIUS=100;X-TITLE=Nanaimo\, BC\, CA:geo:
 49.1142695,-123.8644969
END:VEVENT
END:VCALENDAR