BEGIN:VCALENDAR
VERSION:2.0
PRODID:-//wp-events-plugin.com//6.4.7.1//EN
BEGIN:VEVENT
UID:4092@updogchallenge.com
DTSTART:20250323T130000Z
DTEND:20250323T220000Z
DTSTAMP:20250225T003243Z
URL:https://updogchallenge.com/events/moose-jaw-sk-ca-march-23rd-regina-di
 sc-dog-club/
SUMMARY:Moose Jaw\, SK\, CA - March 23rd - Regina Disc Dog Club
DESCRIPTION:\n\n\nClub Name\nRegina Disc Dog Club\n\n\nContact Name\nMargar
 et Lewis\n\n\nContact Email\nlewism40@gmail.com\n\n\nEvent Address\nOver t
 he Top arena\, Moose Jaw\, Sask S4T 6J7\, Canada\n\n\nEvent Start Date\n3/
 23/2025\n\n\nEvent End Date\n3/23/2025\n\n\nEvent Start Time\n8:00 AM\n\n
 \nEvent End Time\n5:00 PM\n\n\nGames Being Played\n-Time Warp X 2\n-7-Up\n
 -Spaced Out\n-4 Way Play\n-Greedy\n-Throw N Go\n\n\nAdditional event infor
 mation for participants\nThis is a points only trial\, no placement prizes
 \n\n\n
CATEGORIES:UpDog Events
LOCATION:Over The Top Arena\, 2431 McAra St\, Moose Jaw\, Saskatchewan\, Ca
 nada
GEO:50.4402369;-104.58183889999998
X-APPLE-STRUCTURED-LOCATION;VALUE=URI;X-ADDRESS=2431 McAra St\, Moose Jaw\,
  Saskatchewan\, Canada;X-APPLE-RADIUS=100;X-TITLE=Over The Top Arena:geo:5
 0.4402369,-104.58183889999998
END:VEVENT
END:VCALENDAR