BEGIN:VCALENDAR
VERSION:2.0
PRODID:-//wp-events-plugin.com//6.4.7.1//EN
BEGIN:VEVENT
UID:880@updogchallenge.com
DTSTART:20190824T190000Z
DTEND:20190825T010000Z
DTSTAMP:20190623T174946Z
URL:https://updogchallenge.com/events/monroe-oh-us-aug-24th-sofk9s/
SUMMARY:Monroe\, OH\, US - Aug 24th - SOFK9s
DESCRIPTION:\n\n\nContact Name\nDiane Smith\n\n\nClub/ORG Name\nThe Souther
 n Ohio Flying K9s\n\n\nContact Email address\ndianethegreat@hotmail.com\n\
 n\nClub State\nOH\n\n\n\n\n\n\nEvent location full Address\nMonroe Commun
 ity Park\, 412 Old St.\, Monroe\, OH 45050\n\n\nStart Date\nAugust 24\, 20
 19\n\n\nStart Time\n2:00 PM\n\n\nEnd Time\n8:00 PM\n\n\nGames you want to 
 offer\n4WayPlay\, ThrowNGo\, Frizgility\, Freestyle\, Time Warp\n\n\n\n\n\
 n\nAny other event information?\nThis event will be part of the PAWS-A-PAL
 OOZA festival! Animal adoptions\, rescues\, food\, shopping &amp\; more!\n
 \n\n
CATEGORIES:UpDog Events
LOCATION:Monroe Community Park\, 412 Old St\, Monroe\, OH\, 45050\, United 
 States
GEO:39.4374945;-84.3613499
X-APPLE-STRUCTURED-LOCATION;VALUE=URI;X-ADDRESS=412 Old St\, Monroe\, OH\, 
 45050\, United States;X-APPLE-RADIUS=100;X-TITLE=Monroe Community Park:geo
 :39.4374945,-84.3613499
END:VEVENT
END:VCALENDAR