BEGIN:VCALENDAR
VERSION:2.0
PRODID:-//wp-events-plugin.com//6.4.7.1//EN
BEGIN:VEVENT
UID:3136@updogchallenge.com
DTSTART:20231028T200000Z
DTEND:20231118T220000Z
DTSTAMP:20231023T191215Z
URL:https://updogchallenge.com/events/millington-tn-us-oct-28th-nov-4th-11
 th-18th-bite-club-midsouth-disc-dogs/
SUMMARY:Millington\, TN\, US - Oct 28th\, Nov 4th\, 11th & 18th - Bite Club
  - Midsouth Disc Dogs
DESCRIPTION:\n\n\nCLUB NAME\nMidsouth Disc Dogs\n\n\nCONTACT NAME\nJessica 
 Gatewood\n\n\nCONTACT EMAIL\nJdgatewood16@gmail.com\n\n\n\n\n\n\n\n\n\n\nE
 VENT ADDRESS\n8021 Epperson Mill Road\, Millington\, Tennessee 38053\, Uni
 ted States\n\n\nEVENT START DATE\n10/28/2023\n\n\nEVENT END DATE\n10/28/20
 23\n\n\nLIST WEEK 2 BITE CLUB DATE:\n11/4/2023\n\n\nLIST WEEK 3 BITE CLUB 
 DATE:\n11/11/2023\n\n\nLIST WEEK 4 BITE CLUB DATE:\n11/18/2023\n\n\nEVENT
  START TIME\n3:00 PM\n\n\nEVENT END TIME\n5:00 PM\n\n\nGAMES BEING PLAYED
 \nBoom!\nFour Way Play\nGreedy\nSpaced Out\nThrow N Go\nTime Warp\n\n\n
CATEGORIES:Bite Club,UpDog Events
LOCATION:Millington\, TN\, 8020 Epperson Mill Rd\, Millington\, TN\, 38053\
 , United States
GEO:35.34526049999999;-89.9404126
X-APPLE-STRUCTURED-LOCATION;VALUE=URI;X-ADDRESS=8020 Epperson Mill Rd\, Mil
 lington\, TN\, 38053\, United States;X-APPLE-RADIUS=100;X-TITLE=Millington
 \, TN:geo:35.34526049999999,-89.9404126
END:VEVENT
END:VCALENDAR