BEGIN:VCALENDAR
VERSION:2.0
PRODID:-//wp-events-plugin.com//6.4.7.1//EN
BEGIN:VEVENT
UID:415@updogchallenge.com
DTSTART:20180811T140000Z
DTEND:20180811T230000Z
DTSTAMP:20180109T204301Z
URL:https://updogchallenge.com/events/millington-mi-us-august-11th-ddom/
SUMMARY:Millington\, MI\, US - August 11th - DDOM
DESCRIPTION:Contact Name\nScott Jones\nClub/ORG Name\nDDOM\nContact Email a
 ddress\nfrisbeejones@gmail.com\n\nEvent location\nMillington Old Fashioned
  Summer Festival 8537 Gleason St. Millington MI 48746\nStart Date\nAugust
  11\, 2018\nStart Time\n9:00 AM\nEnd Time\n6:00 PM\n\nAny other event info
 rmation?\nMillington Old Fashioned Summer Festival!\nAll Runs $9. We will 
 offer Level 1 and Level 2.\nThrow n go\nFrizgility\n4 Way\n4 Way Pairs\n7u
 p
CATEGORIES:UpDog Events
LOCATION:Millington\, MI\, 8537 Gleason Road\, \, Millington\, MI\, 48746\,
  United States
GEO:43.2804742;-83.52328169999998
X-APPLE-STRUCTURED-LOCATION;VALUE=URI;X-ADDRESS=8537 Gleason Road\, \, Mill
 ington\, MI\, 48746\, United States;X-APPLE-RADIUS=100;X-TITLE=Millington\
 , MI:geo:43.2804742,-83.52328169999998
END:VEVENT
END:VCALENDAR