BEGIN:VCALENDAR
VERSION:2.0
PRODID:-//wp-events-plugin.com//6.4.7.1//EN
BEGIN:VEVENT
UID:3386@updogchallenge.com
DTSTART:20240518T133000Z
DTEND:20240519T220000Z
DTSTAMP:20240219T203547Z
URL:https://updogchallenge.com/events/millersville-md-us-may-4th-5th-mad-d
 ogs-club/
SUMMARY:Millersville\, MD\, US - May 18th & 19th - Mad Dogs Club
DESCRIPTION:\n\n\nCLUB NAME\nMad Dogs Club\n\n\nCONTACT NAME\nRaymond Lowma
 n\n\n\nCONTACT EMAIL\nH2okoiboi@aol.com\n\n\nEVENT ADDRESS\n470 Ski Lane\,
  Millersville\, Maryland 21108\, United States\n\n\nEVENT START DATE\n5/18
 /2024\n\n\nEVENT END DATE\n5/19/2024\n\n\nEVENT START TIME\n8:30 AM\n\n\n
 EVENT END TIME\n5:00 PM\n\n\nGAMES BEING PLAYED\nFour Way Play\nFreestyle\
 nFrizgility\nFunKey\nGreedy\n7Up\nThrow N Go\nTime Warp\n\n\nADDITIONAL EV
 ENT INFORMATION FOR PARTICIPANTS\nSaturday Games\, Throw N Go\, Time Warp
 \, 4 Way Play\, Greedy. Not necessary in order of play!!\nSunday Games\, 
 Frizgility\, Fun Key\, 7 Up\, Freestyle \, Not necessary in order of play!
 !FREESTYLE PLAYERS\, If you are only coming for FREESTYLE check in will be
  2:30PM!!!!\nFreestyle start 3:00PM!!Camper spots contact Lee Carr\, infor
 mation about camping on registration form.\n\n\nLINK FOR PRE-REGISTRATION:
 \nwww.Mad-Dogs.org\nwww.Mad-Dogs.US\n\n\n
CATEGORIES:UpDog Events
LOCATION:Millersville\, Maryland\, 470 Ski Lane \, Millersville\, MD\, 2110
 8\, United States
X-APPLE-STRUCTURED-LOCATION;VALUE=URI;X-ADDRESS=470 Ski Lane \, Millersvill
 e\, MD\, 21108\, United States;X-APPLE-RADIUS=100;X-TITLE=Millersville\, M
 aryland:geo:0,0
END:VEVENT
END:VCALENDAR