BEGIN:VCALENDAR
VERSION:2.0
PRODID:-//wp-events-plugin.com//6.4.7.1//EN
BEGIN:VEVENT
UID:16@updogchallenge.com
DTSTART:20140928T180000Z
DTEND:20140928T230000Z
DTSTAMP:20140808T012138Z
URL:https://updogchallenge.com/events/middlebury-ct-september-28th/
SUMMARY:Middlebury\, CT September 28th
DESCRIPTION:Barktober Fest 2014\n2132 Middlebury Rd\nRoute 64\nMiddlebury\,
  CT 06762\n\n[dt_divider style="thin" /]\n\nContact Corinne Brewer\n860-48
 3-2235\nBrewerad@aol.com\nYankeeflyers.com
CATEGORIES:UpDog Events
LOCATION:Barktober Fest 2014\, 2132 Middlebury Rd Route 64\, Middlebury\, C
 T\, 06762\, NE\, United States
GEO:41.5216189;-73.1358616
X-APPLE-STRUCTURED-LOCATION;VALUE=URI;X-ADDRESS=2132 Middlebury Rd Route 64
 \, Middlebury\, CT\, 06762\, NE\, United States;X-APPLE-RADIUS=100;X-TITLE
 =Barktober Fest 2014:geo:41.5216189,-73.1358616
END:VEVENT
END:VCALENDAR