BEGIN:VCALENDAR
VERSION:2.0
PRODID:-//wp-events-plugin.com//6.4.7.1//EN
BEGIN:VEVENT
UID:267@updogchallenge.com
DTSTART:20170604T150000Z
DTEND:20170604T230000Z
DTSTAMP:20170530T154003Z
URL:https://updogchallenge.com/events/mid-michigan-k9-events-june-4/
SUMMARY:Mid Michigan K9 Events June 4
DESCRIPTION:Contact \nMary Jo Bradley\nmidmichigank9events@gmail.com\n\nEv
 ent location\nBirch Run Community Park\n13175 Maple Road\nBirch Run\, MI 4
 8415\n\nJune 4\n\n10:00 AM - 6:00 PM\n\nGames:\ntbd\n\n*** Runs limited to
  100 per day ***
CATEGORIES:UpDog Events
LOCATION:Birch Run Community Park\, 13175 Maple Road\, Birch Run\, MI\, 484
 15\, United States
GEO:43.23166399999999;-83.79197299999998
X-APPLE-STRUCTURED-LOCATION;VALUE=URI;X-ADDRESS=13175 Maple Road\, Birch Ru
 n\, MI\, 48415\, United States;X-APPLE-RADIUS=100;X-TITLE=Birch Run Commun
 ity Park:geo:43.23166399999999,-83.79197299999998
END:VEVENT
END:VCALENDAR