BEGIN:VCALENDAR
VERSION:2.0
PRODID:-//wp-events-plugin.com//6.4.7.1//EN
BEGIN:VEVENT
UID:233@updogchallenge.com
DTSTART:20170513T150000Z
DTEND:20170514T220000Z
DTSTAMP:20170215T042221Z
URL:https://updogchallenge.com/events/michigan-may-13-14/
SUMMARY:Michigan May 13 14
DESCRIPTION:Contact :\nScott Jones\nDisc Dogs of MI\nfrisbeejones@gmail.co
 m\n\nEvent location :\nDDOM field\nDavison 6259 E. Potter Rd Davison MI 4
 8423\n\nMay 13-14\, 2017\n\nGames :\n4WayPlay\, ThrowNGo\, Frizgility\, F
 unkey\, Spaced Out\, Freestyle\, Time Warp\n\nCome play UpDog for less! Al
 l runs $6. We will offer placement and prizes for 1st thru 3rd place. In l
 evels 1 and 2.\nSaturday we will be running\nThrow n go\, funkey\, frizgil
 ity\, 4 way\, and 7up.\nSunday we will be running\n2 rds of Throw n go\, 1
  rd of Freestyle\, spaced out\, and time warp.\nCome out and have fun with
  your doggies!\,
CATEGORIES:UpDog Events
LOCATION:DDOM Davison\, 6259 E. Potter Rd \, Davison \, MI \, 48423\, Unite
 d States
GEO:43.052217;-83.58685700000001
X-APPLE-STRUCTURED-LOCATION;VALUE=URI;X-ADDRESS=6259 E. Potter Rd \, Daviso
 n \, MI \, 48423\, United States;X-APPLE-RADIUS=100;X-TITLE=DDOM Davison:g
 eo:43.052217,-83.58685700000001
END:VEVENT
END:VCALENDAR