BEGIN:VCALENDAR
VERSION:2.0
PRODID:-//wp-events-plugin.com//6.4.7.1//EN
BEGIN:VEVENT
UID:2129@updogchallenge.com
DTSTART:20220714T130000Z
DTEND:20220717T230000Z
DTSTAMP:20220425T201324Z
URL:https://updogchallenge.com/events/maquoketa-ia-us-july-14th-thru-17th-
 bravo-dog-sports/
SUMMARY:Maquoketa\, IA\, US - July 14th thru 17th - Bravo Dog Sports
DESCRIPTION:\n\n\nCLUB NAME\nBravo Dog Sports\n\n\nCONTACT NAME\nDanielle E
 tzel\n\n\nCONTACT EMAIL\nTeamBravoK9@gmail.com\n\n\nEVENT ADDRESS\n1212 E 
 Quarry St.\, Maquoketa\, Iowa 52060\, United States\n\n\nEVENT START DATE\
 n7/14/2022\n\n\nEVENT END DATE\n7/17/2022\n\n\nEVENT START TIME\n8:00 AM\
 n\n\nEVENT END TIME\n6:00 PM\n\n\nGAMES BEING PLAYED\nFar Out\nFour Way Pl
 ay\nFreestyle\nFrizgility\nFunKey\nGreedy\n7Up\nSpaced Out\nTime Warp\nThr
 ow N Go\n\n\nADDITIONAL EVENT INFORMATION FOR PARTICIPANTS\nhttps://www.fa
 cebook.com/events/jackson-county-speedway/klimb-classic-2022/7729219143770
 238/\n\n\n
CATEGORIES:UpDog Events
LOCATION:Maquoketa\, IA\, 1212 E Quarry St.\, Maquoketa\, IA\, 52060\, Unit
 ed States
GEO:42.071605;-90.651091
X-APPLE-STRUCTURED-LOCATION;VALUE=URI;X-ADDRESS=1212 E Quarry St.\, Maquoke
 ta\, IA\, 52060\, United States;X-APPLE-RADIUS=100;X-TITLE=Maquoketa\, IA:
 geo:42.071605,-90.651091
END:VEVENT
END:VCALENDAR