BEGIN:VCALENDAR
VERSION:2.0
PRODID:-//wp-events-plugin.com//6.4.7.1//EN
BEGIN:VEVENT
UID:2754@updogchallenge.com
DTSTART;VALUE=DATE:20230709
DTEND;VALUE=DATE:20230710
DTSTAMP:20230512T212603Z
URL:https://updogchallenge.com/events/mabel-mn-us-july-9th-driftless-dog-s
 ports/
SUMMARY:Mabel\, MN\, US - July 9th - Driftless Dog Sports
DESCRIPTION:\n\n\nCLUB NAME\nDriftless Dog Sports\n\n\nCONTACT NAME\nAbby F
 lak\n\n\nCONTACT EMAIL\nabbyflak@gmail.com\n\n\nEVENT ADDRESS\nMabel Steam
  Engine Grounds Park\, Mabel\, MN 55954\, United States\n\n\nEVENT START D
 ATE\n7/9/2023\n\n\nEVENT END DATE\n7/9/2023\n\n\nEVENT START TIME\n9:00 A
 M\n\n\nGAMES BEING PLAYED\nFrizgility\nFunKey\nGreedy\n7Up\nThrow N Go\nTi
 me Warp\n\n\nADDITIONAL EVENT INFORMATION FOR PARTICIPANTS\nYou may enter 
 each game up to two times!\n\n\n
CATEGORIES:UpDog Events
END:VEVENT
END:VCALENDAR