BEGIN:VCALENDAR
VERSION:2.0
PRODID:-//wp-events-plugin.com//6.4.7.1//EN
BEGIN:VEVENT
UID:1736@updogchallenge.com
DTSTART;VALUE=DATE:20210807
DTEND;VALUE=DATE:20210809
DTSTAMP:20210609T191935Z
URL:https://updogchallenge.com/events/lyalta-ab-ca-aug-7th-8th-calgary-dis
 c-dog-club/
SUMMARY:Lyalta\, AB\, CA - Aug 7th & 8th - Calgary Disc Dog Club
DESCRIPTION:\n\n\nCLUB NAME\nCalgary Disc Dog Club\n\n\nCONTACT NAME\nKara 
 Bellingham\n\n\nCONTACT EMAIL\nkara.marciniak@gmail.com\n\n\nEVENT ADDRESS
 \n251030 RR262\, Lyalta\, AB T0J 1Y0\, Canada\n\n\nEVENT START DATE\n8/7/2
 021\n\n\nEVENT END DATE\n8/8/2021\n\n\nEVENT START TIME\n10:00 AM\n\n\nGA
 MES BEING PLAYED\nFar Out\nFreestyle\nTime Warp\nThrow N Go\n\n\n
CATEGORIES:UpDog Events
LOCATION:Lyalta\, AB\, 251030 RR262\, Lyalta\, AB\, T0J 1Y0\, Canada
GEO:51.113996;-113.602081
X-APPLE-STRUCTURED-LOCATION;VALUE=URI;X-ADDRESS=251030 RR262\, Lyalta\, AB\
 , T0J 1Y0\, Canada;X-APPLE-RADIUS=100;X-TITLE=Lyalta\, AB:geo:51.113996,-1
 13.602081
END:VEVENT
END:VCALENDAR