BEGIN:VCALENDAR
VERSION:2.0
PRODID:-//wp-events-plugin.com//6.4.7.1//EN
BEGIN:VEVENT
UID:407@updogchallenge.com
DTSTART;VALUE=DATE:20180505
DTEND;VALUE=DATE:20180507
DTSTAMP:20180501T160316Z
URL:https://updogchallenge.com/events/lutz-fl-us-may-5th-6th-courteous-can
 ine/
SUMMARY:Lutz\, FL\, US - May 5th and 6th - Courteous Canine
DESCRIPTION:Date:\nMay 5th and 6th - 9:30am\n\nLocation:\n\nCourteous Canin
 e\n\n3414 Melissa Country Way\n\nLutz\, FL 33559\n\n$11 per run if pre-reg
 istering\n\n$15 per run for Day of Show entries (if available)\nPre-Regist
 ration - CLICK HERE\nPre-Registration closes on May 2nd.\n\n\n\nUpDog Sche
 dule\nGame\nApprox start times - finalized times will be published once re
 gistration is closed\n\n\nSaturday\nFrizgility\n9:30am\n\n\n\nThrow N Go\n
 11am\n\n\n\nFreestyle Performance Round\n1pm - limited to 8 teams\n\n\n\nT
 ime Warp\n2pm\n\n\n\nSpaced Out\n3:30pm\n\n\nSunday\nFrizgility\n9:30am\n\
 n\n\nThrow N Go\n11am\n\n\n\nFour Way Play\n1pm\n\n\n\nTime Warp\n2:30pm\n
 \n\n\n&nbsp\;\n\nThis event will be held in conjunction with a NADD dock d
 iving event.
CATEGORIES:UpDog Events
LOCATION:Courteous Canine\, 3414 Melissa Country Way\, Lutz\, FL\, 33559\, 
 United States
GEO:28.1707535;-82.41436870000001
X-APPLE-STRUCTURED-LOCATION;VALUE=URI;X-ADDRESS=3414 Melissa Country Way\, 
 Lutz\, FL\, 33559\, United States;X-APPLE-RADIUS=100;X-TITLE=Courteous Can
 ine:geo:28.1707535,-82.41436870000001
END:VEVENT
END:VCALENDAR