BEGIN:VCALENDAR
VERSION:2.0
PRODID:-//wp-events-plugin.com//6.4.7.1//EN
BEGIN:VEVENT
UID:1763@updogchallenge.com
DTSTART:20220305T143000Z
DTEND:20220306T203000Z
DTSTAMP:20220127T193154Z
URL:https://updogchallenge.com/events/lutz-fl-us-march-5th-6th-cfddc/
SUMMARY:Lutz\, FL\, US - March 5th & 6th - CFDDC
DESCRIPTION:A NADD dock diving event will be occurring at this same locatio
 n the same weekend.  Enjoy two sports in one place!\n\n&nbsp\;\n\nCognito
 .load("forms"\, { id: "131" })\;
CATEGORIES:UpDog Events
LOCATION:Courteous Canine\, 3414 Melissa Country Way\, Lutz\, FL\, 33559\, 
 United States
GEO:28.1707535;-82.41436870000001
X-APPLE-STRUCTURED-LOCATION;VALUE=URI;X-ADDRESS=3414 Melissa Country Way\, 
 Lutz\, FL\, 33559\, United States;X-APPLE-RADIUS=100;X-TITLE=Courteous Can
 ine:geo:28.1707535,-82.41436870000001
END:VEVENT
END:VCALENDAR