BEGIN:VCALENDAR
VERSION:2.0
PRODID:-//wp-events-plugin.com//6.4.7.1//EN
BEGIN:VEVENT
UID:2514@updogchallenge.com
DTSTART;VALUE=DATE:20230304
DTEND;VALUE=DATE:20230306
DTSTAMP:20230104T153149Z
URL:https://updogchallenge.com/events/lutz-fl-us-march-4th-5th-cfddc/
SUMMARY:Lutz\, FL\, US - March 4th & 5th - CFDDC
DESCRIPTION:A NADD dock diving event will be occurring at this same locatio
 n the same weekend.  Enjoy two sports in one place!\n\nNOTE:  Saturday d
 oes not start until 11AM - Sunday begins at 9AM\n\n
CATEGORIES:UpDog Events
LOCATION:Courteous Canine\, 3414 Melissa Country Way\, Lutz\, FL\, 33559\, 
 United States
GEO:28.1707535;-82.41436870000001
X-APPLE-STRUCTURED-LOCATION;VALUE=URI;X-ADDRESS=3414 Melissa Country Way\, 
 Lutz\, FL\, 33559\, United States;X-APPLE-RADIUS=100;X-TITLE=Courteous Can
 ine:geo:28.1707535,-82.41436870000001
END:VEVENT
END:VCALENDAR