BEGIN:VCALENDAR
VERSION:2.0
PRODID:-//wp-events-plugin.com//6.4.7.1//EN
BEGIN:VEVENT
UID:436@updogchallenge.com
DTSTART:20180819T150000Z
DTEND:20180819T210000Z
DTSTAMP:20180131T193850Z
URL:https://updogchallenge.com/events/loudon-nh-us-aug-19th-gsdd/
SUMMARY:Loudon\, NH\, US - Aug 19th - GSDD
DESCRIPTION:\n\n\nContact Name\nDeb Mardin\n\n\nClub/ORG Name\nGranite Stat
 e Disc Dogs\n\n\nContact Email address\ngranitestatediscdogs@aol.com\n\n\n
 Club State\nNew Hampshire\n\n\nEvent location full Address\nLoudon Recreat
 ion Fields 5 South Village Road\, Loudon NH\n\n\nStart Date\nAugust 19\, 2
 018\n\n\nEnd Date\nAugust 19\, 2018\n\n\nStart Time\n10:00 AM\n\n\nEnd Tim
 e\n4:00 PM\n\n\n\n\n\n\nGames offered:\n4WayPlay\, ThrowNGo\, Frizgility\n
 \n\n
CATEGORIES:UpDog Events
LOCATION:Loudon Recreation Fields\, 5 South Village Rd\, Loudon\, NH\, 0330
 7\, United States
GEO:43.2863289;-71.46762009999998
X-APPLE-STRUCTURED-LOCATION;VALUE=URI;X-ADDRESS=5 South Village Rd\, Loudon
 \, NH\, 03307\, United States;X-APPLE-RADIUS=100;X-TITLE=Loudon Recreation
  Fields:geo:43.2863289,-71.46762009999998
END:VEVENT
END:VCALENDAR