BEGIN:VCALENDAR
VERSION:2.0
PRODID:-//wp-events-plugin.com//6.4.7.1//EN
BEGIN:VEVENT
UID:4140@updogchallenge.com
DTSTART;VALUE=DATE:20250503
DTEND;VALUE=DATE:20250519
DTSTAMP:20250212T210056Z
URL:https://updogchallenge.com/events/liberty-hill-tx-us-may-3rd-4th-18th-
 bite-club-lone-star-disc-dogs/
SUMMARY:Liberty Hill\, TX\, US - May 3rd\, 4th & 18th - Bite Club - Lone St
 ar Disc Dogs
DESCRIPTION:\n\n\nClub Name\nLone Star Disc Dogs\n\n\nContact Name\nTammy M
 ontgomery\n\n\nContact Email\nlonestardiscdogs@gmail.com\n\n\n\n\n\n\n\n\n
 \n\nNotes to UpDog about your Bite Club event(s)\nMay 3rd Greedy\, Spaced
  Out\, start time is 5pm\nMay 4th 4Wayplay\, Time Warp\, start time is 5p
 m\nMay 18th combining Greedy\, ThrowNGo Level 2\, ThrowNGo Level 1\, Fireb
 all. start time is 9-5\n\n\nEvent Address\n101 South Pecan View Road\, Lib
 erty Hill\, TX 78642\, United States\n\n\nEvent Start Date\n5/3/2024\n\n\n
 Event End Date\n5/18/2024\n\n\nList week 2 Bite Club date:\n5/4/2025\n\n\n
 List week 3 Bite Club date:\n5/18/2025\n\n\nList week 4 Bite Club date:\n5
 /18/2025\n\n\nGames Being Played\nFireball\nFour Way Play\nGreedy\nThrow N
  Go\nTime Warp\n\n\n
CATEGORIES:Bite Club,UpDog Events
LOCATION:Liberty Hill\, TX\, 101 South Pecan View Road\, Liberty Hill\, TX\
 , 78642\, United States
GEO:30.759954;-97.926027
X-APPLE-STRUCTURED-LOCATION;VALUE=URI;X-ADDRESS=101 South Pecan View Road\,
  Liberty Hill\, TX\, 78642\, United States;X-APPLE-RADIUS=100;X-TITLE=Libe
 rty Hill\, TX:geo:30.759954,-97.926027
END:VEVENT
END:VCALENDAR