BEGIN:VCALENDAR
VERSION:2.0
PRODID:-//wp-events-plugin.com//6.4.7.1//EN
BEGIN:VEVENT
UID:4086@updogchallenge.com
DTSTART:20250322T140000Z
DTEND:20250323T220000Z
DTSTAMP:20250122T220518Z
URL:https://updogchallenge.com/events/leesburg-va-us-march-22nd-23rd-nova-
 dogs-sports/
SUMMARY:Leesburg\, VA\, US - March 22nd & 23rd - NoVA Dogs Sports
DESCRIPTION:\n\n\nClub Name\nNoVA Dog Sports\n\n\nContact Name\nDoug Kurucz
 \n\n\nContact Email\ndoug.kurucz@gmail.com\n\n\nEvent Address\n19277 Everg
 reen Mills Rd\, Leesburg\, VA 20175\, United States\n\n\nEvent Start Date\
 n3/22/2025\n\n\nEvent End Date\n3/23/2025\n\n\nEvent Start Time\n9:00 AM\
 n\n\nEvent End Time\n5:00 PM\n\n\nGames Being Played\nBoom!\nFireball\nFou
 r Way Play\nFreestyle\nFrizgility\nGreedy\n7Up\nSpaced Out\nThrow N Go\nTi
 me Warp\n\n\n
CATEGORIES:UpDog Events
LOCATION:Leesburg\, Virginia\, 19277 Evergreen Mills Rd\, Leesburg\, VA\, 2
 0175\, United States
X-APPLE-STRUCTURED-LOCATION;VALUE=URI;X-ADDRESS=19277 Evergreen Mills Rd\, 
 Leesburg\, VA\, 20175\, United States;X-APPLE-RADIUS=100;X-TITLE=Leesburg\
 , Virginia:geo:0,0
END:VEVENT
END:VCALENDAR