BEGIN:VCALENDAR
VERSION:2.0
PRODID:-//wp-events-plugin.com//6.4.7.1//EN
BEGIN:VEVENT
UID:3993@updogchallenge.com
DTSTART:20250322T140000Z
DTEND:20250322T220000Z
DTSTAMP:20250115T234710Z
URL:https://updogchallenge.com/events/lebanon-tn-us-march-22nd-nashvertica
 l/
SUMMARY:Lebanon\, TN\, US - March 22nd - NashVertical
DESCRIPTION:\n\n\nClub Name\nNashVertical\n\n\nContact Name\nMelissa Moerla
 nd\n\n\nContact Email\nnashvertical@gmail.com\n\n\nEvent Address\n5242 E R
 ichmond Shop Rd\, Lebanon\, TN 37090\, United States\n\n\nEvent Start Date
 \n3/22/2025\n\n\nEvent End Date\n3/22/2025\n\n\nEvent Start Time\n9:00 AM
 \n\n\nEvent End Time\n5:00 PM\n\n\nGames Being Played\nTo Be Determined\n\
 n\nAdditional event information for participants\nFollow NashVertical on F
 acebook for further details\n\nwww.facebook.com/nashvertical\n\n\n\nhttps:
 //www.cognitoforms.com/NashVerticalDiscDogs/ACourtOfThrowsAndRollersBook1
CATEGORIES:UpDog Events
LOCATION:Cedar Run - Lebanon\, TN\, 5242 E Richmond Shop Rd\, Lebanon\, TN\
 , 37090\, United States
GEO:36.072837;-86.324956
X-APPLE-STRUCTURED-LOCATION;VALUE=URI;X-ADDRESS=5242 E Richmond Shop Rd\, L
 ebanon\, TN\, 37090\, United States;X-APPLE-RADIUS=100;X-TITLE=Cedar Run -
  Lebanon\, TN:geo:36.072837,-86.324956
END:VEVENT
END:VCALENDAR