BEGIN:VCALENDAR
VERSION:2.0
PRODID:-//wp-events-plugin.com//6.4.7.1//EN
BEGIN:VEVENT
UID:2013@updogchallenge.com
DTSTART:20220722T220000Z
DTEND:20220724T170000Z
DTSTAMP:20220321T202738Z
URL:https://updogchallenge.com/events/lebanon-tn-us-july-22nd-thru-24th-na
 shvertical/
SUMMARY:Lebanon\, TN\, US - July 22nd thru 24th - Nashvertical
DESCRIPTION:\n\n\nCLUB NAME\nNashvertical\n\n\nCONTACT NAME\nMelissa Moerla
 nd\n\n\nCONTACT EMAIL\nnashvertical@gmail.com\n\n\nEVENT ADDRESS\n5242 E R
 ichmond Shop Rd\, Lebanon\, TN 37090\, United States\n\n\nEVENT START DATE
 \n7/22/2022\n\n\nEVENT END DATE\n7/24/2022\n\n\nEVENT START TIME\n5:00 PM
 \n\n\nEVENT END TIME\n12:00 PM\n\n\nGAMES BEING PLAYED\nFar Out\nFour Way 
 Play\nFrizgility\nFunKey\nGreedy\n7Up\nSpaced Out\nTime Warp\nThrow N Go\n
 \n\nADDITIONAL EVENT INFORMATION FOR PARTICIPANTS\nJoin Nashvertical for a
  3 day event! Friday and Saturday will be evening events starting at 5 PM 
 CST. Sunday will be a morning event starting at 9 AM.\n\nCheck facebook.c
 om/nashverticaldiscdogs.com for more details!\n\n\n\n\n\n\nCognito.load("
 forms"\, { id: "18" })\;\n
CATEGORIES:UpDog Events
LOCATION:Cedar Run - Lebanon\, TN\, 5242 E Richmond Shop Rd\, Lebanon\, TN\
 , 37090\, United States
GEO:36.072837;-86.324956
X-APPLE-STRUCTURED-LOCATION;VALUE=URI;X-ADDRESS=5242 E Richmond Shop Rd\, L
 ebanon\, TN\, 37090\, United States;X-APPLE-RADIUS=100;X-TITLE=Cedar Run -
  Lebanon\, TN:geo:36.072837,-86.324956
END:VEVENT
END:VCALENDAR