BEGIN:VCALENDAR
VERSION:2.0
PRODID:-//wp-events-plugin.com//6.4.7.1//EN
BEGIN:VEVENT
UID:1758@updogchallenge.com
DTSTART:20210709T150000Z
DTEND:20210709T210000Z
DTSTAMP:20210624T145522Z
URL:https://updogchallenge.com/events/lebanon-ct-us-july-9th-central-k9/
SUMMARY:Lebanon\, CT\, US - July 9th - Central K9
DESCRIPTION:\n\n\nCLUB NAME\nCentral K9\n\n\nCONTACT NAME\nJessica Edgerly\
 n\n\nCONTACT EMAIL\ncentralk9dogs@gmail.com\n\n\nEVENT ADDRESS\n327 LEBANO
 N AVE\, LEBANON\, CT 06249\, United States\n\n\nEVENT START DATE\n7/9/2021
 \n\n\nEVENT END DATE\n7/9/2021\n\n\nEVENT START TIME\n10:00 AM\n\n\nEVENT
  END TIME\n4:00 PM\n\n\nGAMES BEING PLAYED\nGreedy\nSpaced Out\nFour Way P
 lay\nThrow N Go\n\n\n
CATEGORIES:UpDog Events
LOCATION:Lebanon\, CT\, 327 Lebanon ave\, Lebanon\, CT\, United States
GEO:41.597657;-72.285531
X-APPLE-STRUCTURED-LOCATION;VALUE=URI;X-ADDRESS=327 Lebanon ave\, Lebanon\,
  CT\, United States;X-APPLE-RADIUS=100;X-TITLE=Lebanon\, CT:geo:41.597657,
 -72.285531
END:VEVENT
END:VCALENDAR