BEGIN:VCALENDAR
VERSION:2.0
PRODID:-//wp-events-plugin.com//6.4.7.1//EN
BEGIN:VEVENT
UID:1343@updogchallenge.com
DTSTART:20200821T190000Z
DTEND:20200821T230000Z
DTSTAMP:20200812T213123Z
URL:https://updogchallenge.com/events/lebanon-ct-us-aug-21st-central-k9/
SUMMARY:Lebanon\, CT\, US - Aug 21st - Central K9
DESCRIPTION:\n\n\nCLUB NAME\nCentral K9\n\n\nCONTACT NAME\nJessica Edgerly\
 n\n\nCONTACT EMAIL\ncentralk9dogs@gmail.com\n\n\nEVENT ADDRESS\n327 Leban
 on ave\, lebanon ct\, CT 06249\, United States\n\n\nEVENT START DATE\n8/2
 1/2020\n\n\nEVENT END DATE\n8/21/2020\n\n\nEVENT START TIME\n2:00 PM\n\n
 \nEVENT END TIME\n6:00 PM\n\n\nGAMES BEING PLAYED\nGreedy\nFour Way Play\
 nFrizgility\nTime Warp\n\n\nADDITIONAL EVENT INFORMATION FOR PARTICIPANT
 S\nwe will be doing 3 fridays of these 4 games. Dates are 21st\, 28th of A
 ugust and the 4th of september.\n\n\n
CATEGORIES:UpDog Events
LOCATION:Lebanon\, CT\, 327 Lebanon ave\, Lebanon\, CT\, United States
GEO:41.597657;-72.285531
X-APPLE-STRUCTURED-LOCATION;VALUE=URI;X-ADDRESS=327 Lebanon ave\, Lebanon\,
  CT\, United States;X-APPLE-RADIUS=100;X-TITLE=Lebanon\, CT:geo:41.597657,
 -72.285531
END:VEVENT
END:VCALENDAR