BEGIN:VCALENDAR
VERSION:2.0
PRODID:-//wp-events-plugin.com//6.4.7.1//EN
BEGIN:VEVENT
UID:1961@updogchallenge.com
DTSTART:20220710T140000Z
DTEND:20220710T210000Z
DTSTAMP:20220101T192216Z
URL:https://updogchallenge.com/events/lavenir-qc-ca-july-10th-centre-canin
 -caf/
SUMMARY:L'Avenir\, QC\, CA - July 10th - Centre Canin CAF
DESCRIPTION:\n\n\nCLUB NAME\nCentre Canin CAF\n\n\nCONTACT NAME\nDominique 
 Turmel Turmel\n\n\nCONTACT EMAIL\ndturmel777@gmail.com\n\n\nEVENT ADDRESS\
 n297 route 143\, L'Avenir\, Quebec J0C 1B0\, Canada\n\n\nEVENT START DATE\
 n7/10/2022\n\n\nEVENT END DATE\n7/10/2022\n\n\nEVENT START TIME\n9:00 AM\
 n\n\nEVENT END TIME\n4:00 PM\n\n\nGAMES BEING PLAYED\nTo Be Determined\n\n
 \n
CATEGORIES:UpDog Events
LOCATION:Centre Canin CAF\, 297 Rte 143\, L'Avenir\, QC\, J0C 1B0\, Canada
GEO:45.77714659999999;-72.33184469999998
X-APPLE-STRUCTURED-LOCATION;VALUE=URI;X-ADDRESS=297 Rte 143\, L'Avenir\, QC
 \, J0C 1B0\, Canada;X-APPLE-RADIUS=100;X-TITLE=Centre Canin CAF:geo:45.777
 14659999999,-72.33184469999998
END:VEVENT
END:VCALENDAR