BEGIN:VCALENDAR
VERSION:2.0
PRODID:-//wp-events-plugin.com//6.4.7.1//EN
BEGIN:VEVENT
UID:515@updogchallenge.com
DTSTART;VALUE=DATE:20180707
DTEND;VALUE=DATE:20180709
DTSTAMP:20180425T205823Z
URL:https://updogchallenge.com/events/lafayette-in-us-july-7th-8th-lafayet
 te-disc-dogs/
SUMMARY:Lafayette\, IN\, US - July 7th & 8th - Lafayette Disc Dogs
DESCRIPTION:\n\n\nContact Name\nAlyssa Buller\n\n\nClub/ORG Name\nLafayette
  Disc Dogs\n\n\nContact Email address\nlafayettediscdogs@gmail.com\n\n\nCl
 ub State\nIndiana\n\n\nEvent location full Address\nMiami Elementary Schoo
 l\, 2401 Beck Lane\, Lafayette\, IN 47909\n\n\nStart Date\nJuly 7\, 2018\
 n\n\nEnd Date\nJuly 8\, 2018\n\n\nGames offered\n4WayPlay\, ThrowNGo\, Fri
 zgility\, Funkey\, Spaced Out\, Time Warp\, FarOut\, 7UP\n\n\n
CATEGORIES:UpDog Events
LOCATION:Miami Elementary School\, 2401 Beck Lane\, Lafayette\, IN\, 47909\
 , United States
GEO:40.3875498;-86.86868909999998
X-APPLE-STRUCTURED-LOCATION;VALUE=URI;X-ADDRESS=2401 Beck Lane\, Lafayette\
 , IN\, 47909\, United States;X-APPLE-RADIUS=100;X-TITLE=Miami Elementary S
 chool:geo:40.3875498,-86.86868909999998
END:VEVENT
END:VCALENDAR