BEGIN:VCALENDAR
VERSION:2.0
PRODID:-//wp-events-plugin.com//6.4.7.1//EN
BEGIN:VEVENT
UID:681@updogchallenge.com
DTSTART;VALUE=DATE:20190519
DTEND;VALUE=DATE:20190520
DTSTAMP:20181116T221444Z
URL:https://updogchallenge.com/events/king-nc-us-may-19th-brylin-obedience
 -specialty-school/
SUMMARY:King\, NC\, US - May 19th - Brylin Obedience Specialty School
DESCRIPTION:\n\n\nContact Name\nGayle Riggins\n\n\nClub/ORG Name\nBrylin Ob
 edience Specialty School\n\n\nContact Email address\nbrylin17@windstream.n
 et\n\n\nClub State\nNC\n\n\n\n\n\n\nEvent location full Address\n416-D. W.
  King Street\n\n\nStart Date\nApril 19\, 2019\n\n\nEnd Date\nApril 19\, 20
 19\n\n\n\n\n\n\nGames\nThrowNGo\, Frizgility\, Funkey\, Time Warp\, 7UP\n\
 n\n\n&nbsp\;\nUpDog Flyer May 19 2019
CATEGORIES:UpDog Events
LOCATION:Brylin Obedience\, 416-D W. King Street\,\, King\, NC\, 27021\, Un
 ited States
GEO:36.287183;-80.36684300000002
X-APPLE-STRUCTURED-LOCATION;VALUE=URI;X-ADDRESS=416-D W. King Street\,\, Ki
 ng\, NC\, 27021\, United States;X-APPLE-RADIUS=100;X-TITLE=Brylin Obedienc
 e:geo:36.287183,-80.36684300000002
END:VEVENT
END:VCALENDAR