BEGIN:VCALENDAR
VERSION:2.0
PRODID:-//wp-events-plugin.com//6.4.7.1//EN
BEGIN:VEVENT
UID:247@updogchallenge.com
DTSTART:20170617T150000Z
DTEND:20170618T223000Z
DTSTAMP:20170322T012935Z
URL:https://updogchallenge.com/events/june-17-18-connecticut/
SUMMARY:June 17-18  Connecticut
DESCRIPTION:Contact \nCorinne Brewer\nClub/ORG Name\nH2D2 Disc Dogs\nConta
 ct Email address\nbrewerad@aol.com\n\nEvent location \nGoshen\n\nJune 17-
 18\, 2017\n\n10:00 AM - 5:30 PM
CATEGORIES:UpDog Events
LOCATION:Goshen CT\, 416 old middle street\, Goshen\, CT\, 06756\, United S
 tates
GEO:41.804446;-73.21523000000002
X-APPLE-STRUCTURED-LOCATION;VALUE=URI;X-ADDRESS=416 old middle street\, Gos
 hen\, CT\, 06756\, United States;X-APPLE-RADIUS=100;X-TITLE=Goshen CT:geo:
 41.804446,-73.21523000000002
END:VEVENT
END:VCALENDAR