BEGIN:VCALENDAR
VERSION:2.0
PRODID:-//wp-events-plugin.com//6.4.7.1//EN
BEGIN:VEVENT
UID:240@updogchallenge.com
DTSTART:20170701T140000Z
DTEND:20170701T200000Z
DTSTAMP:20170228T191113Z
URL:https://updogchallenge.com/events/july-1-quebec/
SUMMARY:July 1 Quebec
DESCRIPTION:Contact \nDOMINIQUE TURMEL\nCENTRE CANIN CAF\ndoumturmel7@sympa
 tico.ca\n\nEvent location:\n872 RTE O'BRIEN\, L'AVENIR\, QC\, CAN\, J0C 1B
 0\nJuly 1\, 2017\n\n9:00 AM - 3:00 PM\n\nGames you want to offer : \n\n
CATEGORIES:UpDog Events
LOCATION:CENTRE CANIN CAF\, 872 RTE O'BRIEN\, L'AVENIR\,  Quebec\, J0C 1B0\
 , United States
GEO:45.776236;-72.33171479999999
X-APPLE-STRUCTURED-LOCATION;VALUE=URI;X-ADDRESS=872 RTE O'BRIEN\, L'AVENIR\
 ,  Quebec\, J0C 1B0\, United States;X-APPLE-RADIUS=100;X-TITLE=CENTRE CANI
 N CAF:geo:45.776236,-72.33171479999999
END:VEVENT
END:VCALENDAR