BEGIN:VCALENDAR
VERSION:2.0
PRODID:-//wp-events-plugin.com//6.4.7.1//EN
BEGIN:VEVENT
UID:617@updogchallenge.com
DTSTART:20181021T140000Z
DTEND:20181021T220000Z
DTSTAMP:20180814T173657Z
URL:https://updogchallenge.com/events/julian-nc-us-oct-21st-quicksilver-ca
 nine/
SUMMARY:Julian\, NC\, US - Oct 21st - Quicksilver Canine
DESCRIPTION:\n\n\nContact Name\nJim Metallo\n\n\nClub/ORG Name\nQuicksilver
  Canine\n\n\nContact Email address\njametallo@yahoo.com\n\n\nClub State\nN
 C\n\n\n\n\n\n\nEvent location full Address\n5600 Clarence Road\, Julian\, 
 NC 27283\n\n\nStart Date\nOctober 21\, 2018\n\n\nEnd Date\nOctober 21\, 20
 18\n\n\nStart Time\n9:00 AM\n\n\nEnd Time\n5:00 PM\n\n\nGames you want to 
 offer\n4WayPlay\, ThrowNGo\, Frizgility\, Spaced Out\, Time Warp\n\n\n
CATEGORIES:UpDog Events
LOCATION:Quicksilver Canine\, 5600 Clarence Rd\, Julian\, NC\, United State
 s
GEO:35.940255;-79.64882219999998
X-APPLE-STRUCTURED-LOCATION;VALUE=URI;X-ADDRESS=5600 Clarence Rd\, Julian\,
  NC\, United States;X-APPLE-RADIUS=100;X-TITLE=Quicksilver Canine:geo:35.9
 40255,-79.64882219999998
END:VEVENT
END:VCALENDAR