BEGIN:VCALENDAR
VERSION:2.0
PRODID:-//wp-events-plugin.com//6.4.7.1//EN
BEGIN:VEVENT
UID:709@updogchallenge.com
DTSTART;VALUE=DATE:20190309
DTEND;VALUE=DATE:20190310
DTSTAMP:20190112T033025Z
URL:https://updogchallenge.com/events/julian-nc-us-march-9th-quicksilver-c
 anine/
SUMMARY:Julian\, NC\, US - March 9th - Quicksilver Canine
DESCRIPTION:\n\n\nContact Name\nLeerie Jenkins\n\n\nClub/ORG Name\nQuicksil
 ver Canine\n\n\nContact Email address\nleerie.jenkins@gmail.com\n\n\nClub
  State\nNC\n\n\nContacts Mobile Phone\n3364209706\n\n\nEvent location ful
 l Address\n5600 Clarence Rd\n\n\nStart Date\nMarch 9\, 2019\n\n\nGames you
  want to offer\n4WayPlay\, ThrowNGo\, Frizgility\, Spaced Out\, Freestyle\
 , Time Warp\n\n\n\n\n\n\nAny other event information?\nhttp://quicksilverc
 anine.com/updog-challenge-at-quicksilver-canine-march-9-2019/\n\n\n
CATEGORIES:UpDog Events
LOCATION:Quicksilver Canine\, 5600 Clarence Rd\, Julian\, NC\, United State
 s
GEO:35.940255;-79.64882219999998
X-APPLE-STRUCTURED-LOCATION;VALUE=URI;X-ADDRESS=5600 Clarence Rd\, Julian\,
  NC\, United States;X-APPLE-RADIUS=100;X-TITLE=Quicksilver Canine:geo:35.9
 40255,-79.64882219999998
END:VEVENT
END:VCALENDAR