BEGIN:VCALENDAR
VERSION:2.0
PRODID:-//wp-events-plugin.com//6.4.7.1//EN
BEGIN:VEVENT
UID:2029@updogchallenge.com
DTSTART:20220827T140000Z
DTEND:20220828T220000Z
DTSTAMP:20220216T203459Z
URL:https://updogchallenge.com/events/julian-nc-us-aug-27th-28th-quicksilv
 er-canine/
SUMMARY:Julian\, NC\, US - Aug 27th & 28th - Quicksilver Canine
DESCRIPTION:\n\n\nCLUB NAME\nQuicksilver Canine\n\n\nCONTACT NAME\nLeerie J
 enkins\n\n\nCONTACT EMAIL\nleerie.jenkins@gmail.com\n\n\nEVENT ADDRESS\nQ
 uicksilver Canine\, 5600 Clarence Rd\, Julian\, NC 27283\, United States\n
 \n\nEVENT START DATE\n8/27/2022\n\n\nEVENT END DATE\n8/28/2022\n\n\nEVEN
 T START TIME\n9:00 AM\n\n\nEVENT END TIME\n5:00 PM\n\n\nGAMES BEING PLAY
 ED\nTo Be Determined\n\n\nADDITIONAL EVENT INFORMATION FOR PARTICIPANTS\
 nCome join us for the Spring 2022 UpDog Bite Club kickoff weekend. Both da
 ys will count for Bite Club.\n\n\n
CATEGORIES:UpDog Events
LOCATION:Quicksilver Canine\, 5600 Clarence Rd\, Julian\, NC\, United State
 s
GEO:35.940255;-79.64882219999998
X-APPLE-STRUCTURED-LOCATION;VALUE=URI;X-ADDRESS=5600 Clarence Rd\, Julian\,
  NC\, United States;X-APPLE-RADIUS=100;X-TITLE=Quicksilver Canine:geo:35.9
 40255,-79.64882219999998
END:VEVENT
END:VCALENDAR