BEGIN:VCALENDAR
VERSION:2.0
PRODID:-//wp-events-plugin.com//6.4.7.1//EN
BEGIN:VEVENT
UID:1509@updogchallenge.com
DTSTART:20210417T140000Z
DTEND:20210418T210000Z
DTSTAMP:20210114T173339Z
URL:https://updogchallenge.com/events/julian-nc-us-april-3rd-4th-quicksilv
 er-canine/
SUMMARY:Julian\, NC\, US - April 17th & 18th - Quicksilver Canine
DESCRIPTION:\n\n\nCLUB NAME\nQuicksilver Canine\n\n\nCONTACT NAME\nLeerie J
 enkins\n\n\nCONTACT EMAIL\nleerie.jenkins@gmail.com\n\n\nEVENT ADDRESS\n5
 600 Clarence Rd\, Julian\, North Carolina 27283\, United States\n\n\nEVENT
  START DATE\n4/17/2021\n\n\nEVENT END DATE\n4/18/2021\n\n\nEVENT START 
 TIME\n9:00 AM\n\n\nEVENT END TIME\n4:00 PM\n\n\nGAMES BEING PLAYED\nFour 
 Way Play\nFrizgility\nGreedy\n7Up\nSpaced Out\nThrow N Go\nTime Warp\n\n\n
 ADDITIONAL EVENT INFORMATION FOR PARTICIPANTS\nhttps://quicksilvercanine
 .com/updog-challenge-at-quicksilver-canine-april-3-2021-april-4-2021/\n\n\
 n
CATEGORIES:UpDog Events
LOCATION:Quicksilver Canine\, 5600 Clarence Rd\, Julian\, NC\, United State
 s
GEO:35.940255;-79.64882219999998
X-APPLE-STRUCTURED-LOCATION;VALUE=URI;X-ADDRESS=5600 Clarence Rd\, Julian\,
  NC\, United States;X-APPLE-RADIUS=100;X-TITLE=Quicksilver Canine:geo:35.9
 40255,-79.64882219999998
END:VEVENT
END:VCALENDAR