BEGIN:VCALENDAR
VERSION:2.0
PRODID:-//wp-events-plugin.com//6.4.7.1//EN
BEGIN:VEVENT
UID:1708@updogchallenge.com
DTSTART:20210530T133000Z
DTEND:20210530T183000Z
DTSTAMP:20210522T194544Z
URL:https://updogchallenge.com/events/jacksonville-fl-us-may-29th-jax-disc
 -dogs-2/
SUMMARY:Jacksonville\, FL\, US - May 30th - Jax Disc Dogs
DESCRIPTION:\n\n\nCLUB NAME\nJax Disc Dogs\n\n\nCONTACT NAME\nColleen Hegyi
 \n\n\nCONTACT EMAIL\nk9disc@bellsouth.net\n\n\nEVENT ADDRESS\n12215 Sago 
 Ave\, Jacksonville\, Florida 32218\, United States\n\n\nEVENT START DATE\
 n5/30/2021\n\n\nEVENT END DATE\n5/30/2021\n\n\nEVENT START TIME\n8:30 AM
 \n\n\nEVENT END TIME\n1:30 PM\n\n\nGAMES BEING PLAYED\nTime Warp\nThrow N
  GoFrizgility\n\n\nADDITIONAL EVENT INFORMATION FOR PARTICIPANTS\nWe wil
 l play two rounds of Time Warp for Bite Club week 2 then we will add one r
 ound of upcoming Bite Club games Throw N Go and one round of Frizgility\n\
 n\n
CATEGORIES:UpDog Events
LOCATION:Jacksonville\, FL\, 12215 Sago Ave\, Jacksonville\, FL\, 32218\, U
 nited States
GEO:30.45875879999999;-81.6315027
X-APPLE-STRUCTURED-LOCATION;VALUE=URI;X-ADDRESS=12215 Sago Ave\, Jacksonvil
 le\, FL\, 32218\, United States;X-APPLE-RADIUS=100;X-TITLE=Jacksonville\, 
 FL:geo:30.45875879999999,-81.6315027
END:VEVENT
END:VCALENDAR