BEGIN:VCALENDAR
VERSION:2.0
PRODID:-//wp-events-plugin.com//6.4.7.1//EN
BEGIN:VEVENT
UID:2233@updogchallenge.com
DTSTART;VALUE=DATE:20220710
DTEND;VALUE=DATE:20220801
DTSTAMP:20220721T010002Z
URL:https://updogchallenge.com/events/jacksonville-fl-us-july-10th-17th-31
 st-jacksonville-disc-dogs/
SUMMARY:Jacksonville\, FL\, US - July 10th\, 17th & 30th - Jacksonville Dis
 c Dogs
DESCRIPTION:\n\n\nCLUB NAME\nJacksonville Disc Dogs\n\n\nCONTACT NAME\nColl
 een Hegyi\n\n\nCONTACT EMAIL\nk9disc@bellsouth.net\n\n\n\n\n\n\n\n\n\n\nNO
 TES TO UPDOG ABOUT YOUR BITE CLUB EVENT(S)\nWeek 1 and 2 7/10 combined\nWe
 ek 3 7/17\nWeek 4 7/30\n\n\nEVENT ADDRESS\n12215 Sago Ave\, Jacksonville\,
  FL 32218\, United States\n\n\nEVENT START DATE\n7/10/2022\n\n\nEVENT END 
 DATE\n7/10/2022\n\n\nLIST WEEK 2 BITE CLUB DATE:\n7/10/2022\n\n\nLIST WEEK
  3 BITE CLUB DATE:\n7/17/2022\n\n\nLIST WEEK 4 BITE CLUB DATE:\n7/30/2022\
 n\n\nEVENT START TIME\n9:00 AM\n\n\nEVENT END TIME\n1:00 PM\n\n\nGAMES BE
 ING PLAYED\nFour Way Play\nThrow N Go\nTime Warp\nSpaced Out\n\n\nADDITION
 AL EVENT INFORMATION FOR PARTICIPANTS\nWe are playing scheduled bite club 
 games 7/10 we will play week 1 And 2\n\n7/17 Far Out as well\n\n7/31 Far O
 ut as well\n\n\n
CATEGORIES:Bite Club,UpDog Events
LOCATION:Jacksonville\, FL\, 12215 Sago Ave\, Jacksonville\, FL\, 32218\, U
 nited States
GEO:30.45875879999999;-81.6315027
X-APPLE-STRUCTURED-LOCATION;VALUE=URI;X-ADDRESS=12215 Sago Ave\, Jacksonvil
 le\, FL\, 32218\, United States;X-APPLE-RADIUS=100;X-TITLE=Jacksonville\, 
 FL:geo:30.45875879999999,-81.6315027
END:VEVENT
END:VCALENDAR