BEGIN:VCALENDAR
VERSION:2.0
PRODID:-//wp-events-plugin.com//6.4.7.1//EN
BEGIN:VEVENT
UID:1418@updogchallenge.com
DTSTART:20201017T140000Z
DTEND:20201017T230000Z
DTSTAMP:20200919T181248Z
URL:https://updogchallenge.com/events/hutto-tx-us-oct-17th-flying-disc-dog
 s-of-austin/
SUMMARY:Hutto\, TX\, US - Oct 17th - Flying Disc Dogs of Austin
DESCRIPTION:\n\n\nCLUB NAME\nFlying Disc Dogs of Austin\n\n\nCONTACT NAME\n
 Tammy Montgomery\n\n\nCONTACT EMAIL\nfddadogs@gmail.com\n\n\nEVENT ADDRES
 S\n200 County Road 197\, Hutto\, Texas 78634\, United States\n\n\nEVENT S
 TART DATE\n10/17/2020\n\n\nEVENT END DATE\n10/17/2020\n\n\nEVENT START T
 IME\n9:00 AM\n\n\nEVENT END TIME\n6:00 PM\n\n\nGAMES BEING PLAYED\nFour W
 ay Play\nFunKey\nSpaced Out\nFrizgility\n\n\nADDITIONAL EVENT INFORMATIO
 N FOR PARTICIPANTS\nPlease register and pay on-line. We will have open 
 registration online and a cutoff for registration. There will be no reg
 istration at the event.\n\n\n
CATEGORIES:UpDog Events
LOCATION:Hutto\, TX\, 200 County Road 197\, Hutto\, TX\, 78634\, United Sta
 tes
GEO:30.508623;-97.552821
X-APPLE-STRUCTURED-LOCATION;VALUE=URI;X-ADDRESS=200 County Road 197\, Hutto
 \, TX\, 78634\, United States;X-APPLE-RADIUS=100;X-TITLE=Hutto\, TX:geo:30
 .508623,-97.552821
END:VEVENT
END:VCALENDAR