BEGIN:VCALENDAR
VERSION:2.0
PRODID:-//wp-events-plugin.com//6.4.7.1//EN
BEGIN:VEVENT
UID:334@updogchallenge.com
DTSTART:20170909T140000Z
DTEND:20170910T230000Z
DTSTAMP:20170822T194151Z
URL:https://updogchallenge.com/events/hurricane-ut-us-sept-910-atomic-dogs
 /
SUMMARY:Hurricane\, UT\, US - Sept 9&10 - Atomic Dogs
DESCRIPTION:\n\n\n\n\n\n\nClub/ORG Name\nAtomic Dogs\n\n\nContact Email add
 ress\nlanerw@gmail.com\n\n\nContact Name\nLane Wood\n\n\n\n\n\n\nEvent loc
 ation full Address\nHurricane Community Center\, 63 S 100 W\, Hurricane\, 
 Utah 84737\n\n\nStart Date\nSeptember 9\, 2017\n\n\nEnd Date\nSeptember 10
 \, 2017\n\n\nStart Time\n9:00 AM\n\n\nEnd Time\n6:00 PM\n\n\n\n\n\n\nGames
  offered:\n4WayPlay\, ThrowNGo\, Frizgility\, Funkey\, Spaced Out\, Time W
 arp\, 7UP\n\n\n\n\n\n\nAny other event information?\nPre-Registration will
  be available at atomic-dogs.com\nThis event is part of a larger event wit
 h Because Animals Matter (BAM). BAM is a rescue group in Southern Utah tha
 t puts on the Dog Day Spectacular each year. This year they will have NADD
  as well as the UpDog Challenge. Due to the combined events\, parking will
  be very limited (especially on Saturday). Sunday will just be NADD and Up
 Dog so the parking situation should be a little better.\n\n\n
CATEGORIES:UpDog Events
LOCATION:Hurricane Community Center\, 63 South 100 West\, Hurricane\, UT\, 
 84735\, United States
GEO:37.176385;-113.291066
X-APPLE-STRUCTURED-LOCATION;VALUE=URI;X-ADDRESS=63 South 100 West\, Hurrica
 ne\, UT\, 84735\, United States;X-APPLE-RADIUS=100;X-TITLE=Hurricane Commu
 nity Center:geo:37.176385,-113.291066
END:VEVENT
END:VCALENDAR