BEGIN:VCALENDAR
VERSION:2.0
PRODID:-//wp-events-plugin.com//6.4.7.1//EN
BEGIN:VEVENT
UID:1450@updogchallenge.com
DTSTART:20201027T230000Z
DTEND:20201028T000000Z
DTSTAMP:20201019T201120Z
URL:https://updogchallenge.com/events/huntertown-in-us-oct-27th-summit-cit
 y-disc-dog-group/
SUMMARY:Huntertown\, IN\, US - Oct 27th - Summit City Disc Dog Group
DESCRIPTION:\n\n\nCLUB NAME\nSummit City Disc Dog Group\n\n\nCONTACT NAME\n
 Mark Smith\n\n\nCONTACT EMAIL\nsummitcityddg@hotmail.com\n\n\nEVENT ADDRE
 SS\n2000 W Ft Recovery Rd\, Huntertown\, IN 46748\, United States\n\n\nEVE
 NT START DATE\n10/27/2020\n\n\nEVENT END DATE\n10/27/2020\n\n\nEVENT ST
 ART TIME\n6:00 PM\n\n\nEVENT END TIME\n7:00 PM\n\n\nGAMES BEING PLAYED\nF
 our Way Play\nSpaced Out\n\n\nADDITIONAL EVENT INFORMATION FOR PARTICIPA
 NTS\nPoints only event\n\n\n
CATEGORIES:UpDog Events
LOCATION:Huntertown\, IN\, 2000 W Ft Recovery Rd\, Huntertown\, IN\, 46748\
 , United States
GEO:41.199001;-85.170071
X-APPLE-STRUCTURED-LOCATION;VALUE=URI;X-ADDRESS=2000 W Ft Recovery Rd\, Hun
 tertown\, IN\, 46748\, United States;X-APPLE-RADIUS=100;X-TITLE=Huntertown
 \, IN:geo:41.199001,-85.170071
END:VEVENT
END:VCALENDAR